BEGIN:VCALENDAR
VERSION:2.0
PRODID:spatie/icalendar-generator
NAME:Jedermann – Männerkreis in Zürich [SINNSPACE]
X-WR-CALNAME:Jedermann – Männerkreis in Zürich [SINNSPACE]
BEGIN:VTIMEZONE
TZID:Europe/Zurich
BEGIN:STANDARD
DTSTART:20251026T030000
TZOFFSETFROM:+0200
TZOFFSETTO:+0100
END:STANDARD
BEGIN:DAYLIGHT
DTSTART:20260329T020000
TZOFFSETFROM:+0100
TZOFFSETTO:+0200
END:DAYLIGHT
END:VTIMEZONE
BEGIN:VTIMEZONE
TZID:UTC
BEGIN:STANDARD
DTSTART:20250725T095604
TZOFFSETFROM:+0000
TZOFFSETTO:+0000
END:STANDARD
END:VTIMEZONE
BEGIN:VEVENT
UID:69e749b48fd8a
DTSTAMP:20260421T095604Z
DTSTART;TZID=Europe/Zurich:20260422T193000
DTEND;TZID=Europe/Zurich:20260422T223000
SUMMARY:Jedermann – Männerkreis in Zürich [SINNSPACE]
DESCRIPTION:https://www.sinnspace.ch/de/e/jedermann-maennerkreis-in-zuerich
 .79926\n\nJedermann\, ein Männerkreis in Zürich. Ein Ort für Ausdruck\,
  Austausch\, Lebendigkeit und neue Impulse. Für Männer\, die mehr von si
 ch und vom Leben wollen.
LOCATION:Studio Blessing\, Lessingstrasse 11\, 8002 Zürich
END:VEVENT
END:VCALENDAR