BEGIN:VCALENDAR
VERSION:2.0
PRODID:spatie/icalendar-generator
NAME:Male dein SonnenRad - DrehMalArt® Die Original Methode für Mandala m
 alen im Flow auf der Drehscheibe [SINNSPACE]
X-WR-CALNAME:Male dein SonnenRad - DrehMalArt® Die Original Methode für M
 andala malen im Flow auf der Drehscheibe [SINNSPACE]
BEGIN:VTIMEZONE
TZID:Europe/Zurich
BEGIN:STANDARD
DTSTART:20251026T030000
TZOFFSETFROM:+0200
TZOFFSETTO:+0100
END:STANDARD
BEGIN:DAYLIGHT
DTSTART:20260329T020000
TZOFFSETFROM:+0100
TZOFFSETTO:+0200
END:DAYLIGHT
BEGIN:STANDARD
DTSTART:20261025T030000
TZOFFSETFROM:+0200
TZOFFSETTO:+0100
END:STANDARD
END:VTIMEZONE
BEGIN:VTIMEZONE
TZID:UTC
BEGIN:STANDARD
DTSTART:20250725T111238
TZOFFSETFROM:+0000
TZOFFSETTO:+0000
END:STANDARD
END:VTIMEZONE
BEGIN:VEVENT
UID:69e75ba6539b2
DTSTAMP:20260421T111238Z
DTSTART;TZID=Europe/Zurich:20260426T100000
DTEND;TZID=Europe/Zurich:20260426T170000
SUMMARY:Male dein SonnenRad - DrehMalArt® Die Original Methode für Mandal
 a malen im Flow auf der Drehscheibe [SINNSPACE]
DESCRIPTION:https://www.sinnspace.ch/de/e/male-dein-sonnenrad-drehmalart-di
 e-original-methode-fuer-mandala-malen-im-flow-auf-der-drehscheibe.79868\n\
 nDie Original Methode für Mandala malen im Flow auf der Drehscheibe Eine 
 von mir entwickelte Methode\, die über viele Jahre gewachsen ist. Seit 20
 09 begleite ich Menschen dabei\, über das Malen wieder in Verbindung mit 
 sich selbst zu kommen. Mandalas entstehen aus dem Moment heraus.
LOCATION:Obschlagenstrasse 2\, 8916 Jonen
END:VEVENT
END:VCALENDAR