BEGIN:VCALENDAR
VERSION:2.0
PRODID:spatie/icalendar-generator
NAME:Tauche ein in die Welt von Klang\, Stimme und Herzensverbindung [SINNS
 PACE]
X-WR-CALNAME:Tauche ein in die Welt von Klang\, Stimme und Herzensverbindun
 g [SINNSPACE]
BEGIN:VTIMEZONE
TZID:Europe/Zurich
BEGIN:STANDARD
DTSTART:20251026T030000
TZOFFSETFROM:+0200
TZOFFSETTO:+0100
END:STANDARD
BEGIN:DAYLIGHT
DTSTART:20260329T020000
TZOFFSETFROM:+0100
TZOFFSETTO:+0200
END:DAYLIGHT
BEGIN:STANDARD
DTSTART:20261025T030000
TZOFFSETFROM:+0200
TZOFFSETTO:+0100
END:STANDARD
END:VTIMEZONE
BEGIN:VTIMEZONE
TZID:UTC
BEGIN:STANDARD
DTSTART:20250725T135447
TZOFFSETFROM:+0000
TZOFFSETTO:+0000
END:STANDARD
END:VTIMEZONE
BEGIN:VEVENT
UID:69e781a74ebe4
DTSTAMP:20260421T135447Z
DTSTART;TZID=Europe/Zurich:20260430T190000
DTEND;TZID=Europe/Zurich:20260430T213000
SUMMARY:Tauche ein in die Welt von Klang\, Stimme und Herzensverbindung [SI
 NNSPACE]
DESCRIPTION:https://www.sinnspace.ch/de/e/tauche-ein-in-die-welt-von-klang-
 stimme-und-herzensverbindung.79787\n\nIn der inspirierenden Atmosphäre vo
 n Jandalart öffnen wir gemeinsam einen Raum voller Klang\, Achtsamkeit un
 d Lebendigkeit. Beim Singen & Klingen mit Ka-Na-Jo darfst du ganz eintauch
 en – in deine Stimme\, in die Schwingung\, in die Freude des Miteinander
 s.
LOCATION:Ermenseestrasse 7\, 6285 Hitzkirch
END:VEVENT
END:VCALENDAR