BEGIN:VCALENDAR
VERSION:2.0
PRODID:spatie/icalendar-generator
NAME:Impro for Life: Das Spiel mit der Angst [SINNSPACE]
X-WR-CALNAME:Impro for Life: Das Spiel mit der Angst [SINNSPACE]
BEGIN:VTIMEZONE
TZID:Europe/Zurich
BEGIN:STANDARD
DTSTART:20251026T030000
TZOFFSETFROM:+0200
TZOFFSETTO:+0100
END:STANDARD
BEGIN:DAYLIGHT
DTSTART:20260329T020000
TZOFFSETFROM:+0100
TZOFFSETTO:+0200
END:DAYLIGHT
BEGIN:STANDARD
DTSTART:20261025T030000
TZOFFSETFROM:+0200
TZOFFSETTO:+0100
END:STANDARD
END:VTIMEZONE
BEGIN:VTIMEZONE
TZID:UTC
BEGIN:STANDARD
DTSTART:20250725T105214
TZOFFSETFROM:+0000
TZOFFSETTO:+0000
END:STANDARD
END:VTIMEZONE
BEGIN:VEVENT
UID:69e756de463f8
DTSTAMP:20260421T105214Z
DTSTART;TZID=Europe/Zurich:20260530T100000
DTEND;TZID=Europe/Zurich:20260531T170000
SUMMARY:Impro for Life: Das Spiel mit der Angst [SINNSPACE]
DESCRIPTION:https://www.sinnspace.ch/de/e/impro-for-life-das-spiel-mit-der-
 angst.79703\n\nWer seine Comfort-Zone verlassen möchte und sich neuen Her
 ausforderungen stellt\, hat oft eine ungemütliche Begleiterin: Die Angst.
  In diesem Workshop entdecken wir Wege\, wie wir diese Begleiterin zu unse
 rer Freundin machen können. Spiel mit deiner Angst – denn sonst spielt 
 sie mit dir.
LOCATION:töpferei\, Töpferstrasse 26\, 8045 Zürich
END:VEVENT
END:VCALENDAR