BEGIN:VCALENDAR
VERSION:2.0
PRODID:spatie/icalendar-generator
NAME:Du kannst schreiben! [SINNSPACE]
X-WR-CALNAME:Du kannst schreiben! [SINNSPACE]
BEGIN:VTIMEZONE
TZID:Europe/Zurich
BEGIN:STANDARD
DTSTART:20251026T030000
TZOFFSETFROM:+0200
TZOFFSETTO:+0100
END:STANDARD
BEGIN:DAYLIGHT
DTSTART:20260329T020000
TZOFFSETFROM:+0100
TZOFFSETTO:+0200
END:DAYLIGHT
BEGIN:STANDARD
DTSTART:20261025T030000
TZOFFSETFROM:+0200
TZOFFSETTO:+0100
END:STANDARD
END:VTIMEZONE
BEGIN:VTIMEZONE
TZID:UTC
BEGIN:STANDARD
DTSTART:20250725T105255
TZOFFSETFROM:+0000
TZOFFSETTO:+0000
END:STANDARD
END:VTIMEZONE
BEGIN:VEVENT
UID:69e7570735fc3
DTSTAMP:20260421T105255Z
DTSTART;TZID=Europe/Zurich:20260509T100000
DTEND;TZID=Europe/Zurich:20260509T170000
SUMMARY:Du kannst schreiben! [SINNSPACE]
DESCRIPTION:https://www.sinnspace.ch/de/e/du-kannst-schreiben.79702\n\nSchr
 eiben kann jede:r – mit Impro-Mindset\, «Yes-and» und spielerischen Ü
 bungen wird Kreativität entfesselt\, Blockaden lösen sich und neue Ideen
  entstehen. Im Fokus stehen Freude am Schreiben\, Ausprobieren und lebendi
 ge Geschichten.
LOCATION:Theater Im Zollhaus\, Zollstrasse 121\, 8005 Zürich
END:VEVENT
END:VCALENDAR