BEGIN:VCALENDAR
VERSION:2.0
PRODID:spatie/icalendar-generator
NAME:Impro for Life: Connect! [SINNSPACE]
X-WR-CALNAME:Impro for Life: Connect! [SINNSPACE]
BEGIN:VTIMEZONE
TZID:Europe/Zurich
BEGIN:STANDARD
DTSTART:20251026T030000
TZOFFSETFROM:+0200
TZOFFSETTO:+0100
END:STANDARD
BEGIN:DAYLIGHT
DTSTART:20260329T020000
TZOFFSETFROM:+0100
TZOFFSETTO:+0200
END:DAYLIGHT
BEGIN:STANDARD
DTSTART:20261025T030000
TZOFFSETFROM:+0200
TZOFFSETTO:+0100
END:STANDARD
END:VTIMEZONE
BEGIN:VTIMEZONE
TZID:UTC
BEGIN:STANDARD
DTSTART:20250725T105219
TZOFFSETFROM:+0000
TZOFFSETTO:+0000
END:STANDARD
END:VTIMEZONE
BEGIN:VEVENT
UID:69e756e3426b7
DTSTAMP:20260421T105219Z
DTSTART;TZID=Europe/Zurich:20260425T100000
DTEND;TZID=Europe/Zurich:20260426T170000
SUMMARY:Impro for Life: Connect! [SINNSPACE]
DESCRIPTION:https://www.sinnspace.ch/de/e/impro-for-life-connect.79700\n\nB
 essere Gespräche mit angewandter Impro. Echte Verbindung beginnt mit gute
 r Kommunikation. In diesem Workshop werden spielerisch Selbstbewusstsein u
 nd Gesprächskompetenz gestärkt und spontane und authentische Begegnungen
  geübt – für mehr Leichtigkeit im Smalltalk und Tiefe im Austausch. CO
 NNECT!
LOCATION:töpferei\, Töpferstrasse 26\, 8045 Zürich
END:VEVENT
END:VCALENDAR