BEGIN:VCALENDAR
VERSION:2.0
PRODID:spatie/icalendar-generator
NAME:Cacao meets Reiki - Zeremonie [SINNSPACE]
X-WR-CALNAME:Cacao meets Reiki - Zeremonie [SINNSPACE]
BEGIN:VTIMEZONE
TZID:Europe/Zurich
BEGIN:STANDARD
DTSTART:20251026T030000
TZOFFSETFROM:+0200
TZOFFSETTO:+0100
END:STANDARD
BEGIN:DAYLIGHT
DTSTART:20260329T020000
TZOFFSETFROM:+0100
TZOFFSETTO:+0200
END:DAYLIGHT
BEGIN:STANDARD
DTSTART:20261025T030000
TZOFFSETFROM:+0200
TZOFFSETTO:+0100
END:STANDARD
END:VTIMEZONE
BEGIN:VTIMEZONE
TZID:UTC
BEGIN:STANDARD
DTSTART:20250725T120737
TZOFFSETFROM:+0000
TZOFFSETTO:+0000
END:STANDARD
END:VTIMEZONE
BEGIN:VEVENT
UID:69e768895118f
DTSTAMP:20260421T120737Z
DTSTART;TZID=Europe/Zurich:20260703T190000
DTEND;TZID=Europe/Zurich:20260703T210000
SUMMARY:Cacao meets Reiki - Zeremonie [SINNSPACE]
DESCRIPTION:https://www.sinnspace.ch/de/e/cacao-meets-reiki-zeremonie.79651
 \n\nTauche ein in einen heilsamen Raum für Herz und Seele. Ich begleite d
 ich durch eine kraftvolle\, tief transformierende Zeremonie mit zeremoniel
 lem Kakao\, bewusster Atemarbeit\, aktivierendem und nährendem Bodywork\,
  einer geführten Visionsreise\, Reiki und heilenden Klängen.
LOCATION:Schlieren
END:VEVENT
END:VCALENDAR