BEGIN:VCALENDAR
VERSION:2.0
PRODID:spatie/icalendar-generator
NAME:Wir schauen hinter deine Maske [SINNSPACE]
X-WR-CALNAME:Wir schauen hinter deine Maske [SINNSPACE]
BEGIN:VTIMEZONE
TZID:Europe/Zurich
BEGIN:STANDARD
DTSTART:20251026T030000
TZOFFSETFROM:+0200
TZOFFSETTO:+0100
END:STANDARD
BEGIN:DAYLIGHT
DTSTART:20260329T020000
TZOFFSETFROM:+0100
TZOFFSETTO:+0200
END:DAYLIGHT
BEGIN:STANDARD
DTSTART:20261025T030000
TZOFFSETFROM:+0200
TZOFFSETTO:+0100
END:STANDARD
END:VTIMEZONE
BEGIN:VTIMEZONE
TZID:UTC
BEGIN:STANDARD
DTSTART:20250725T111156
TZOFFSETFROM:+0000
TZOFFSETTO:+0000
END:STANDARD
END:VTIMEZONE
BEGIN:VEVENT
UID:69e75b7ca45d9
DTSTAMP:20260421T111156Z
DTSTART;TZID=Europe/Zurich:20260606T140000
DTEND;TZID=Europe/Zurich:20260606T180000
SUMMARY:Wir schauen hinter deine Maske [SINNSPACE]
DESCRIPTION:https://www.sinnspace.ch/de/e/wir-schauen-hinter-deine-maske.79
 492\n\nWenn du spürst\, dass es Zeit ist\, nicht nur zu funktionieren –
  sondern wieder mehr du selbst zu sein. NeuroMind-Reset Anwender-Workshop 
 In diesem Workshop lernst du\, wie emotionale Reaktionen nicht im Kopf ent
 stehen\, sondern im Nervensystem und im Körper gespeichert sind.
LOCATION:Chur
END:VEVENT
END:VCALENDAR