BEGIN:VCALENDAR
VERSION:2.0
PRODID:spatie/icalendar-generator
NAME:Breathwork Circle Zeremonie Allgäu - atme durch und verbinde dich mit
  deinem Wesenskern [SINNSPACE]
X-WR-CALNAME:Breathwork Circle Zeremonie Allgäu - atme durch und verbinde 
 dich mit deinem Wesenskern [SINNSPACE]
BEGIN:VTIMEZONE
TZID:Europe/Zurich
BEGIN:DAYLIGHT
DTSTART:20260329T020000
TZOFFSETFROM:+0100
TZOFFSETTO:+0200
END:DAYLIGHT
BEGIN:STANDARD
DTSTART:20261025T030000
TZOFFSETFROM:+0200
TZOFFSETTO:+0100
END:STANDARD
END:VTIMEZONE
BEGIN:VTIMEZONE
TZID:UTC
BEGIN:STANDARD
DTSTART:20250725T112732
TZOFFSETFROM:+0000
TZOFFSETTO:+0000
END:STANDARD
END:VTIMEZONE
BEGIN:VEVENT
UID:69e75f24c936b
DTSTAMP:20260421T112732Z
DTSTART;TZID=Europe/Zurich:20260823T100000
DTEND;TZID=Europe/Zurich:20260823T130000
SUMMARY:Breathwork Circle Zeremonie Allgäu - atme durch und verbinde dich 
 mit deinem Wesenskern [SINNSPACE]
DESCRIPTION:https://www.sinnspace.ch/de/e/breathwork-circle-zeremonie-allga
 eu-atme-durch-und-verbinde-dich-mit-deinem-wesenskern.79439\n\n🌬 Dein A
 tem ist der Schlüssel zur inneren Transformation - erlebe in einem Kreis 
 von Gleichgesinnten eine einzigartige Reise in dein tiefstes Selbst\, zur
 ück zu deinem Wesenskern.
LOCATION:Artemisia Kräuterhof\, Hopfen\, Stiefenhofen i. Allgäu
END:VEVENT
END:VCALENDAR