BEGIN:VCALENDAR
VERSION:2.0
PRODID:spatie/icalendar-generator
NAME:Breathwork Circle Zeremonie Allgäu - atme durch und verbinde dich mit
  deinem Wesenskern [SINNSPACE]
X-WR-CALNAME:Breathwork Circle Zeremonie Allgäu - atme durch und verbinde 
 dich mit deinem Wesenskern [SINNSPACE]
BEGIN:VTIMEZONE
TZID:Europe/Zurich
BEGIN:STANDARD
DTSTART:20251026T030000
TZOFFSETFROM:+0200
TZOFFSETTO:+0100
END:STANDARD
BEGIN:DAYLIGHT
DTSTART:20260329T020000
TZOFFSETFROM:+0100
TZOFFSETTO:+0200
END:DAYLIGHT
BEGIN:STANDARD
DTSTART:20261025T030000
TZOFFSETFROM:+0200
TZOFFSETTO:+0100
END:STANDARD
END:VTIMEZONE
BEGIN:VTIMEZONE
TZID:UTC
BEGIN:STANDARD
DTSTART:20250725T111146
TZOFFSETFROM:+0000
TZOFFSETTO:+0000
END:STANDARD
END:VTIMEZONE
BEGIN:VEVENT
UID:69e75b72a57af
DTSTAMP:20260421T111146Z
DTSTART;TZID=Europe/Zurich:20260620T100000
DTEND;TZID=Europe/Zurich:20260620T130000
SUMMARY:Breathwork Circle Zeremonie Allgäu - atme durch und verbinde dich 
 mit deinem Wesenskern [SINNSPACE]
DESCRIPTION:https://www.sinnspace.ch/de/e/breathwork-circle-zeremonie-allga
 eu-atme-durch-und-verbinde-dich-mit-deinem-wesenskern.79422\n\n🌬 Dein A
 tem ist der Schlüssel zur inneren Transformation - erlebe in einem Kreis 
 von Gleichgesinnten eine einzigartige Reise in dein tiefstes Selbst\, zur
 ück zu deinem Wesenskern.
LOCATION:Artemisia Kräterhof\, Hopfen\, Stiefenhofen im Allgäu
END:VEVENT
END:VCALENDAR