BEGIN:VCALENDAR
VERSION:2.0
PRODID:spatie/icalendar-generator
NAME:🌕 Fullmoon Breathwork Circle Zeremonie (Online) [SINNSPACE]
X-WR-CALNAME:🌕 Fullmoon Breathwork Circle Zeremonie (Online) [SINNSPACE]
BEGIN:VTIMEZONE
TZID:Europe/Zurich
BEGIN:STANDARD
DTSTART:20251026T030000
TZOFFSETFROM:+0200
TZOFFSETTO:+0100
END:STANDARD
BEGIN:DAYLIGHT
DTSTART:20260329T020000
TZOFFSETFROM:+0100
TZOFFSETTO:+0200
END:DAYLIGHT
BEGIN:STANDARD
DTSTART:20261025T030000
TZOFFSETFROM:+0200
TZOFFSETTO:+0100
END:STANDARD
END:VTIMEZONE
BEGIN:VTIMEZONE
TZID:UTC
BEGIN:STANDARD
DTSTART:20250725T111253
TZOFFSETFROM:+0000
TZOFFSETTO:+0000
END:STANDARD
END:VTIMEZONE
BEGIN:VEVENT
UID:69e75bb554123
DTSTAMP:20260421T111253Z
DTSTART;TZID=Europe/Zurich:20260531T111100
DTEND;TZID=Europe/Zurich:20260531T134100
SUMMARY:🌕 Fullmoon Breathwork Circle Zeremonie (Online) [SINNSPACE]
DESCRIPTION:https://www.sinnspace.ch/de/e/fullmoon-breathwork-circle-zeremo
 nie-online.79415\n\nLoslassen im Rhythmus des Mondes – Atem als Rückver
 bindung zu dir. Dein bewusster Raum\, innezuhalten\, Spannungen abzugeben 
 und dich wieder mit deinem inneren Gleichgewicht zu verbinden.
END:VEVENT
END:VCALENDAR