BEGIN:VCALENDAR
VERSION:2.0
PRODID:spatie/icalendar-generator
NAME:Zurück in deinen Körper [SINNSPACE]
X-WR-CALNAME:Zurück in deinen Körper [SINNSPACE]
BEGIN:VTIMEZONE
TZID:Europe/Zurich
BEGIN:STANDARD
DTSTART:20251026T030000
TZOFFSETFROM:+0200
TZOFFSETTO:+0100
END:STANDARD
BEGIN:DAYLIGHT
DTSTART:20260329T020000
TZOFFSETFROM:+0100
TZOFFSETTO:+0200
END:DAYLIGHT
BEGIN:STANDARD
DTSTART:20261025T030000
TZOFFSETFROM:+0200
TZOFFSETTO:+0100
END:STANDARD
END:VTIMEZONE
BEGIN:VTIMEZONE
TZID:UTC
BEGIN:STANDARD
DTSTART:20250725T111142
TZOFFSETFROM:+0000
TZOFFSETTO:+0000
END:STANDARD
END:VTIMEZONE
BEGIN:VEVENT
UID:69e75b6e359ab
DTSTAMP:20260421T111142Z
DTSTART;TZID=Europe/Zurich:20260509T090000
DTEND;TZID=Europe/Zurich:20260509T110000
SUMMARY:Zurück in deinen Körper [SINNSPACE]
DESCRIPTION:https://www.sinnspace.ch/de/e/zurueck-in-deinen-koerper.79389\n
 \nDu bist viel im Kopf. Funktionierst. Gehst durch deinen Alltag und hält
 st alles zusammen. Und irgendwo merkst du\, dass dein Körper längst mehr
  trägt\, als dir lieb ist. Spannung\, die bleibt. Unruhe\, die nicht ganz
  weggeht. Ein Gefühl von „es ist einfach zu viel“. Und trotzdem machs
 t du weiter.
LOCATION:Gemeindesaal Niederweningen
END:VEVENT
END:VCALENDAR