BEGIN:VCALENDAR
VERSION:2.0
PRODID:spatie/icalendar-generator
NAME:Embody & Flow [SINNSPACE]
X-WR-CALNAME:Embody & Flow [SINNSPACE]
BEGIN:VTIMEZONE
TZID:Europe/Zurich
BEGIN:STANDARD
DTSTART:20251026T030000
TZOFFSETFROM:+0200
TZOFFSETTO:+0100
END:STANDARD
BEGIN:DAYLIGHT
DTSTART:20260329T020000
TZOFFSETFROM:+0100
TZOFFSETTO:+0200
END:DAYLIGHT
END:VTIMEZONE
BEGIN:VTIMEZONE
TZID:UTC
BEGIN:STANDARD
DTSTART:20250725T105232
TZOFFSETFROM:+0000
TZOFFSETTO:+0000
END:STANDARD
END:VTIMEZONE
BEGIN:VEVENT
UID:69e756f0b047f
DTSTAMP:20260421T105232Z
DTSTART;TZID=Europe/Zurich:20260414T190000
DTEND;TZID=Europe/Zurich:20260414T203000
SUMMARY:Embody & Flow [SINNSPACE]
DESCRIPTION:https://www.sinnspace.ch/de/e/embody-flow.79371\n\nIntuitives B
 ewegen orientiert an fließenden Yoga-Sequenzen kombiniert mit Achtsamkeit
 \, Meditation und Körperwahrnehmung - für mehr Leichtigkeit und Ausgegli
 chenheit - FÜR DICH.
LOCATION:Brünneleweg 1\, 6800 Feldkirch-Nofels
END:VEVENT
END:VCALENDAR