BEGIN:VCALENDAR
VERSION:2.0
PRODID:spatie/icalendar-generator
NAME:Mind2Body - Vom Funktionieren ins Fühlen [SINNSPACE]
X-WR-CALNAME:Mind2Body - Vom Funktionieren ins Fühlen [SINNSPACE]
BEGIN:VTIMEZONE
TZID:Europe/Zurich
BEGIN:STANDARD
DTSTART:20251026T030000
TZOFFSETFROM:+0200
TZOFFSETTO:+0100
END:STANDARD
BEGIN:DAYLIGHT
DTSTART:20260329T020000
TZOFFSETFROM:+0100
TZOFFSETTO:+0200
END:DAYLIGHT
BEGIN:STANDARD
DTSTART:20261025T030000
TZOFFSETFROM:+0200
TZOFFSETTO:+0100
END:STANDARD
END:VTIMEZONE
BEGIN:VTIMEZONE
TZID:UTC
BEGIN:STANDARD
DTSTART:20250725T105237
TZOFFSETFROM:+0000
TZOFFSETTO:+0000
END:STANDARD
END:VTIMEZONE
BEGIN:VEVENT
UID:69e756f50b547
DTSTAMP:20260421T105237Z
DTSTART;TZID=Europe/Zurich:20260504T183000
DTEND;TZID=Europe/Zurich:20260608T200000
SUMMARY:Mind2Body - Vom Funktionieren ins Fühlen [SINNSPACE]
DESCRIPTION:https://www.sinnspace.ch/de/e/mind2body-vom-funktionieren-ins-f
 uehlen.79370\n\nDeinen Körper in Leichtigkeit und Verbundenheit erfahren:
  Du fühlst dich oft gestresst\, angespannt oder zu viel „im Kopf“? Mi
 nd2Body begleitet dich in 6 Wochen zurück in die Verbindung mit deinem K
 örper – für mehr Ruhe\, Klarheit und Leichtigkeit im Alltag.
LOCATION:via Zoom
END:VEVENT
END:VCALENDAR