BEGIN:VCALENDAR
VERSION:2.0
PRODID:spatie/icalendar-generator
NAME:Take your Power back [SINNSPACE]
X-WR-CALNAME:Take your Power back [SINNSPACE]
BEGIN:VTIMEZONE
TZID:Europe/Zurich
BEGIN:STANDARD
DTSTART:20251026T030000
TZOFFSETFROM:+0200
TZOFFSETTO:+0100
END:STANDARD
BEGIN:DAYLIGHT
DTSTART:20260329T020000
TZOFFSETFROM:+0100
TZOFFSETTO:+0200
END:DAYLIGHT
END:VTIMEZONE
BEGIN:VTIMEZONE
TZID:UTC
BEGIN:STANDARD
DTSTART:20250725T111233
TZOFFSETFROM:+0000
TZOFFSETTO:+0000
END:STANDARD
END:VTIMEZONE
BEGIN:VEVENT
UID:69e75ba154f3b
DTSTAMP:20260421T111233Z
DTSTART;TZID=Europe/Zurich:20260408T190000
DTEND;TZID=Europe/Zurich:20260408T200000
SUMMARY:Take your Power back [SINNSPACE]
DESCRIPTION:https://www.sinnspace.ch/de/e/take-your-power-back.79326\n\nDu 
 weißt so viel – und kommst trotzdem nicht voran? Erfahre in dieser Mast
 erclass für 0 CHF\, warum du dich immer wieder selbst blockierst\, was de
 in Nervensystem damit zu tun hat und wie du endlich durch diese unsichtbar
 e Wand kommst.
LOCATION:Online via Zoom
END:VEVENT
END:VCALENDAR