BEGIN:VCALENDAR
VERSION:2.0
PRODID:spatie/icalendar-generator
NAME:Baue Deine schamanische Trommel [SINNSPACE]
X-WR-CALNAME:Baue Deine schamanische Trommel [SINNSPACE]
BEGIN:VTIMEZONE
TZID:Europe/Zurich
BEGIN:STANDARD
DTSTART:20251026T030000
TZOFFSETFROM:+0200
TZOFFSETTO:+0100
END:STANDARD
BEGIN:DAYLIGHT
DTSTART:20260329T020000
TZOFFSETFROM:+0100
TZOFFSETTO:+0200
END:DAYLIGHT
BEGIN:STANDARD
DTSTART:20261025T030000
TZOFFSETFROM:+0200
TZOFFSETTO:+0100
END:STANDARD
END:VTIMEZONE
BEGIN:VTIMEZONE
TZID:UTC
BEGIN:STANDARD
DTSTART:20250725T111248
TZOFFSETFROM:+0000
TZOFFSETTO:+0000
END:STANDARD
END:VTIMEZONE
BEGIN:VEVENT
UID:69e75bb055450
DTSTAMP:20260421T111248Z
DTSTART;TZID=Europe/Zurich:20260523T100000
DTEND;TZID=Europe/Zurich:20260523T170000
SUMMARY:Baue Deine schamanische Trommel [SINNSPACE]
DESCRIPTION:https://www.sinnspace.ch/de/e/baue-deine-schamanische-trommel.7
 9305\n\nEine Trommel auf einer Reise durch die Elemente zwischen wundervol
 len Greifvögeln. Baue mit meiner Unterstützung Deine Trommel\, mit der D
 u wirklich verbunden bist 
LOCATION:Greifvogelpark Menter \, Konzenberg
END:VEVENT
END:VCALENDAR