BEGIN:VCALENDAR
VERSION:2.0
PRODID:spatie/icalendar-generator
NAME:AUFRECHT - Dein Raum für Klarheit & Ausrichtung [SINNSPACE]
X-WR-CALNAME:AUFRECHT - Dein Raum für Klarheit & Ausrichtung [SINNSPACE]
BEGIN:VTIMEZONE
TZID:Europe/Zurich
BEGIN:STANDARD
DTSTART:20251026T030000
TZOFFSETFROM:+0200
TZOFFSETTO:+0100
END:STANDARD
BEGIN:DAYLIGHT
DTSTART:20260329T020000
TZOFFSETFROM:+0100
TZOFFSETTO:+0200
END:DAYLIGHT
BEGIN:STANDARD
DTSTART:20261025T030000
TZOFFSETFROM:+0200
TZOFFSETTO:+0100
END:STANDARD
END:VTIMEZONE
BEGIN:VTIMEZONE
TZID:UTC
BEGIN:STANDARD
DTSTART:20250725T100654
TZOFFSETFROM:+0000
TZOFFSETTO:+0000
END:STANDARD
END:VTIMEZONE
BEGIN:VEVENT
UID:69e74c3e79ccc
DTSTAMP:20260421T100654Z
DTSTART;TZID=Europe/Zurich:20260418T100000
DTEND;TZID=Europe/Zurich:20260509T100000
SUMMARY:AUFRECHT - Dein Raum für Klarheit & Ausrichtung [SINNSPACE]
DESCRIPTION:https://www.sinnspace.ch/de/e/aufrecht-dein-raum-fuer-klarheit-
 ausrichtung.79270\n\nIch sage: Das\, was dir den Stecker zieht\, ist fehle
 nde innere Klarheit & Ausrichtung. Unsichere Handlungen\, Entscheidungen\,
  bei denen du immer wieder eigene Grenzen überschreitest\, sind der Grund
  warum du soooo erschöpft sind. Es fehlt dir nicht an Struktur oder Diszi
 plin\, es fehlt innere Klarheit!
LOCATION:Online via Zoom
END:VEVENT
END:VCALENDAR