BEGIN:VCALENDAR
VERSION:2.0
PRODID:spatie/icalendar-generator
NAME:Muttertag-Special [SINNSPACE]
X-WR-CALNAME:Muttertag-Special [SINNSPACE]
BEGIN:VTIMEZONE
TZID:Europe/Zurich
BEGIN:STANDARD
DTSTART:20251026T030000
TZOFFSETFROM:+0200
TZOFFSETTO:+0100
END:STANDARD
BEGIN:DAYLIGHT
DTSTART:20260329T020000
TZOFFSETFROM:+0100
TZOFFSETTO:+0200
END:DAYLIGHT
BEGIN:STANDARD
DTSTART:20261025T030000
TZOFFSETFROM:+0200
TZOFFSETTO:+0100
END:STANDARD
END:VTIMEZONE
BEGIN:VTIMEZONE
TZID:UTC
BEGIN:STANDARD
DTSTART:20250725T111201
TZOFFSETFROM:+0000
TZOFFSETTO:+0000
END:STANDARD
END:VTIMEZONE
BEGIN:VEVENT
UID:69e75b81c6532
DTSTAMP:20260421T111201Z
DTSTART;TZID=Europe/Zurich:20260510T110000
DTEND;TZID=Europe/Zurich:20260510T150000
SUMMARY:Muttertag-Special [SINNSPACE]
DESCRIPTION:https://www.sinnspace.ch/de/e/muttertag-special.79145\n\nInnera
  Collective lädt zum Muttertagsanlass mit Brunch und kreativem Gestalten 
 ein — für gemeinsame Zeit\, Freude und etwas Persönliches\, das zusamm
 en entsteht.
LOCATION:Zürich (tba)
END:VEVENT
END:VCALENDAR