BEGIN:VCALENDAR
VERSION:2.0
PRODID:spatie/icalendar-generator
NAME:Focaccia\, Spritz & Sunday Beats [SINNSPACE]
X-WR-CALNAME:Focaccia\, Spritz & Sunday Beats [SINNSPACE]
BEGIN:VTIMEZONE
TZID:Europe/Zurich
BEGIN:STANDARD
DTSTART:20251026T030000
TZOFFSETFROM:+0200
TZOFFSETTO:+0100
END:STANDARD
BEGIN:DAYLIGHT
DTSTART:20260329T020000
TZOFFSETFROM:+0100
TZOFFSETTO:+0200
END:DAYLIGHT
BEGIN:STANDARD
DTSTART:20261025T030000
TZOFFSETFROM:+0200
TZOFFSETTO:+0100
END:STANDARD
END:VTIMEZONE
BEGIN:VTIMEZONE
TZID:UTC
BEGIN:STANDARD
DTSTART:20250725T122938
TZOFFSETFROM:+0000
TZOFFSETTO:+0000
END:STANDARD
END:VTIMEZONE
BEGIN:VEVENT
UID:69e76db27dc9a
DTSTAMP:20260421T122938Z
DTSTART;TZID=Europe/Zurich:20260531T110000
DTEND;TZID=Europe/Zurich:20260531T210000
SUMMARY:Focaccia\, Spritz & Sunday Beats [SINNSPACE]
DESCRIPTION:https://www.sinnspace.ch/de/e/focaccia-spritz-sunday-beats.7914
 3\n\nEin genussvoller Sonntag mit apulischem Focaccia-Workshop\, Cocktails
  und offenem Sunday Rave mit DJ — gemeinsam backen\, geniessen und den N
 achmittag mit guten Beats und Vibes abschliessen.
LOCATION:Santini Bar\, Talstrasse 62\, 8001 Zürich
END:VEVENT
END:VCALENDAR