BEGIN:VCALENDAR
VERSION:2.0
PRODID:spatie/icalendar-generator
NAME:Held*innenreise Schweiz (Online-Infoabend) - Dein Weg zu mehr innerer 
 Freiheit und gelebter Kraft [SINNSPACE]
X-WR-CALNAME:Held*innenreise Schweiz (Online-Infoabend) - Dein Weg zu mehr 
 innerer Freiheit und gelebter Kraft [SINNSPACE]
BEGIN:VTIMEZONE
TZID:Europe/Zurich
BEGIN:STANDARD
DTSTART:20251026T030000
TZOFFSETFROM:+0200
TZOFFSETTO:+0100
END:STANDARD
BEGIN:DAYLIGHT
DTSTART:20260329T020000
TZOFFSETFROM:+0100
TZOFFSETTO:+0200
END:DAYLIGHT
BEGIN:STANDARD
DTSTART:20261025T030000
TZOFFSETFROM:+0200
TZOFFSETTO:+0100
END:STANDARD
END:VTIMEZONE
BEGIN:VTIMEZONE
TZID:UTC
BEGIN:STANDARD
DTSTART:20250725T111229
TZOFFSETFROM:+0000
TZOFFSETTO:+0000
END:STANDARD
END:VTIMEZONE
BEGIN:VEVENT
UID:69e75b9df2724
DTSTAMP:20260421T111229Z
DTSTART;TZID=Europe/Zurich:20260518T190000
DTEND;TZID=Europe/Zurich:20260518T200000
SUMMARY:Held*innenreise Schweiz (Online-Infoabend) - Dein Weg zu mehr inner
 er Freiheit und gelebter Kraft [SINNSPACE]
DESCRIPTION:https://www.sinnspace.ch/de/e/held-innenreise-schweiz-online-in
 foabend-dein-weg-zu-mehr-innerer-freiheit-und-gelebter-kraft.79073\n\nRaus
  aus dem Funktionieren und rein in Dein Leben. Ein transformatives Abenteu
 er für mehr Lebendigkeit\, Klarheit und Tiefe. Eine Woche für Dich. Dein
 e Reise zu Dir selbst in den Schweizer Bergen.
END:VEVENT
END:VCALENDAR